BEGIN:VCALENDAR
VERSION:2.0
PRODID:-//ChamberMaster//Event Calendar 2.0//EN
METHOD:PUBLISH
X-PUBLISHED-TTL:P3D
REFRESH-INTERVAL:P3D
CALSCALE:GREGORIAN
BEGIN:VEVENT
DTSTART;VALUE=DATE:20120330
DTEND;VALUE=DATE:20120331
TRANSP:TRANSPARENT
X-MICROSOFT-CDO-ALLDAYEVENT:TRUE
SUMMARY:5th Annual Zoefest Presented by Word in Season Church
DESCRIPTION:Zoefest is an event that promotes unity among the community and families.  Games\, food\, live music\, a car show\, and other activities. Featuring Deluge\, and emerging sound of passionate youth worship from Bethany World Prayer Center in Baton Rouge\, Louisiana.  Their self-titled\, debut album was named by Christianity Today Magazine as one of the "favorite worship albums of 2008."\n\nFor more information\, call: Duilio Cabrera @ 956- 778-8445\, Emily Trevino @ 956-341-7446.
X-ALT-DESC;FMTTYPE=text/html:Zoefest is an event that promotes unity among the community and families.  Games\, food\, live music\, a car show\, and other activities. Featuring Deluge\, and emerging sound of passionate youth worship from Bethany World Prayer Center in Baton Rouge\, Louisiana.  Their self-titled\, debut album was named by Christianity Today Magazine as one of the "favorite worship albums of 2008."\n\nFor more information\, call: Duilio Cabrera @ 956- 778-8445\, Emily Trevino @ 956-341-7446.\n\n	\n\n	\n
LOCATION:
UID:e.1828.3603
SEQUENCE:3
DTSTAMP:20260420T182404Z
URL:https://business.harlingen.com/events/details/5th-annual-zoefest-presented-by-word-in-season-church-03-30-2012-3603
END:VEVENT

END:VCALENDAR
