BEGIN:VCALENDAR
VERSION:2.0
PRODID:-//ChamberMaster//Event Calendar 2.0//EN
METHOD:PUBLISH
X-PUBLISHED-TTL:P3D
REFRESH-INTERVAL:P3D
CALSCALE:GREGORIAN
BEGIN:VEVENT
DTSTART:20091205T010000Z
DTEND:20091205T010000Z
X-MICROSOFT-CDO-ALLDAYEVENT:FALSE
SUMMARY:63rd Annual Jaycees Christmas Parade - ''A Centennial Christmas''
DESCRIPTION:Start off the holiday season with the Jaycees Christmas parade in downtown Harlingen.  You might even get a visit from Santa Claus himself.  After the parade\, head over to the Pinata Festival at Gutierrez Park for music\, food\, pinatas and SNOW! It's a great way to celebrate the season.  For more information\, please call 956-453-1336.
X-ALT-DESC;FMTTYPE=text/html:Start off the holiday season with the Jaycees Christmas parade in downtown Harlingen.  You might even get a visit from Santa Claus himself.  After the parade\, head over to the Pinata Festival at Gutierrez Park for music\, food\, pinatas and SNOW! It's a great way to celebrate the season.  For more information\, please call 956-453-1336.\n    \n    
LOCATION:
UID:e.1828.2088
SEQUENCE:3
DTSTAMP:20260422T130057Z
URL:https://business.harlingen.com/events/details/63rd-annual-jaycees-christmas-parade-a-centennial-christmas-12-04-2009-2088
END:VEVENT

END:VCALENDAR
