BEGIN:VCALENDAR
VERSION:2.0
PRODID:-//ChamberMaster//Event Calendar 2.0//EN
METHOD:PUBLISH
X-PUBLISHED-TTL:P3D
REFRESH-INTERVAL:P3D
CALSCALE:GREGORIAN
BEGIN:VEVENT
DTSTART;VALUE=DATE:20110429
DTEND;VALUE=DATE:20110501
TRANSP:TRANSPARENT
X-MICROSOFT-CDO-ALLDAYEVENT:TRUE
SUMMARY:6th Annual Charity Fishing Tournament
DESCRIPTION:Benefiting the Junior League of Harlingen\nApril 29 - April 30 \nParrot Eyes - South Padre Island \nHello Anglers! Attached is the entry form to the 6th Annual Senoritas on the Bay Fishing Tournament to be held April 29-30 at South Padre Island. Thanks to those who participated last year and hope to see you again this year! For information call Kim Leal 956-202-3681.
X-ALT-DESC;FMTTYPE=text/html:Benefiting the Junior League of Harlingen\nApril 29 - April 30 \nParrot Eyes - South Padre Island \nHello Anglers! Attached is the entry form to the 6th Annual Senoritas on the Bay Fishing Tournament to be held April 29-30 at South Padre Island. Thanks to those who participated last year and hope to see you again this year! For information call Kim Leal 956-202-3681.
LOCATION:
UID:e.1828.3022
SEQUENCE:3
DTSTAMP:20260421T113204Z
URL:https://business.harlingen.com/events/details/6th-annual-charity-fishing-tournament-04-29-2011-3022
END:VEVENT

END:VCALENDAR
