BEGIN:VCALENDAR
VERSION:2.0
PRODID:-//ChamberMaster//Event Calendar 2.0//EN
METHOD:PUBLISH
X-PUBLISHED-TTL:P3D
REFRESH-INTERVAL:P3D
CALSCALE:GREGORIAN
BEGIN:VEVENT
DTSTART;VALUE=DATE:20110319
DTEND;VALUE=DATE:20110320
TRANSP:TRANSPARENT
X-MICROSOFT-CDO-ALLDAYEVENT:TRUE
SUMMARY:6th Annual Pretty at Prom
DESCRIPTION:HATCU along with Valley Morning Star & Valle Vista Mall are working together to provide prom attire to \nhigh school seniors in need at NO COST.\n\nWe are currently accepting donations for the following items: \nFormal Gowns\, Dress Shoes\, Complimentary Tuxedo Rentals\, Corsages\, Boutonnieres\, Accessories\, Limo Services\, Restaurant Gift Cards and Beauty Professionals for hair and makeup. Pretty at Prom benefits all surrounding school districts.  \n\nDonations are needed by March 19th.  \nFor more information please call HATCU - 423.5792\nHelp us make dreams come true.
X-ALT-DESC;FMTTYPE=text/html:HATCU along with Valley Morning Star & Valle Vista Mall are working together to provide prom attire to \nhigh school seniors in need at NO COST.\n\nWe are currently accepting donations for the following items: \nFormal Gowns\, Dress Shoes\, Complimentary Tuxedo Rentals\, Corsages\, Boutonnieres\, Accessories\, Limo Services\, Restaurant Gift Cards and Beauty Professionals for hair and makeup. Pretty at Prom benefits all surrounding school districts.  \n\nDonations are needed by March 19th.  \nFor more information please call HATCU - 423.5792\nHelp us make dreams come true.\n
LOCATION:
UID:e.1828.2984
SEQUENCE:3
DTSTAMP:20260421T124533Z
URL:https://business.harlingen.com/events/details/6th-annual-pretty-at-prom-03-19-2011-2984
END:VEVENT

END:VCALENDAR
