BEGIN:VCALENDAR
VERSION:2.0
PRODID:-//ChamberMaster//Event Calendar 2.0//EN
METHOD:PUBLISH
X-PUBLISHED-TTL:P3D
REFRESH-INTERVAL:P3D
CALSCALE:GREGORIAN
BEGIN:VEVENT
DTSTART:20100118T160000Z
DTEND:20100118T210000Z
X-MICROSOFT-CDO-ALLDAYEVENT:FALSE
SUMMARY:6th Annual Winter Texan Appreciation Fiesta
DESCRIPTION:Live bands\, entertainment & booths.  FREE ADMISSION!  Sponsorship & Vendor forms available at the Harlingen Area Chamber of Commerce at 311 East Tyler or\, please contact the Harlingen Parks & Recreation Department at 956-216-5950.
X-ALT-DESC;FMTTYPE=text/html:Live bands\, entertainment & booths.  FREE ADMISSION!  Sponsorship & Vendor forms available at the Harlingen Area Chamber of Commerce at 311 East Tyler or\, please contact the Harlingen Parks & Recreation Department at 956-216-5950.
LOCATION:
UID:e.1828.2189
SEQUENCE:3
DTSTAMP:20260422T112008Z
URL:https://business.harlingen.com/events/details/6th-annual-winter-texan-appreciation-fiesta-01-18-2010-2189
END:VEVENT

END:VCALENDAR
