BEGIN:VCALENDAR
VERSION:2.0
PRODID:-//ChamberMaster//Event Calendar 2.0//EN
METHOD:PUBLISH
X-PUBLISHED-TTL:P3D
REFRESH-INTERVAL:P3D
CALSCALE:GREGORIAN
BEGIN:VEVENT
DTSTART:20100113T200000Z
DTEND:20100113T220000Z
X-MICROSOFT-CDO-ALLDAYEVENT:FALSE
SUMMARY:7 Keys to Small Business Marketing Success
DESCRIPTION:The 7 Keys to Marketing Success will be held at the Chamber\, 311 E Tyler in Harlingen\, on January 13 from \n        2 pm\n        to \n        4 pm\n        .  Attendees will learn how to answer questions about potential customers and how to reach these customers using the right message. The workshop\, presented in partnership with the UTPA Small Business Development Center\, will help business owners on identifying customers\, selling\, and how to develop a marketing plan.  \n    \n    \n         \n        ''Small business owners really need to understand who their potential customers are and where to find them before they spend money on trying to attract them. A great amount of marketing effort is misdirected at individuals who are not potential customers.  Advertising and marketing\, while essential\, is too expensive to squander.'' said Cristina Cantu\, SBDC Business Advisor.
X-ALT-DESC;FMTTYPE=text/html:<html xmlns:st1= "urn:schemas-microsoft-com:office:smarttags" xmlns:o= "urn:schemas-microsoft-com:office:office">\n<head>\n    <link href="http://harlingentxcoc.weblinkconnect.com/CWT/External/WCControls/WCControls.css" type="text/css" rel="Stylesheet" />\n</head>\n<body class="GeneralBody">\n    <p class="MsoNormal" style="MARGIN: 0in 0in 0pt\; TEXT-ALIGN: center" align="center">\n        <span style="FONT-SIZE: 14pt"></span>\n    </p>\n    <p class="MsoNormal" style="TEXT-JUSTIFY: inter-ideograph\; MARGIN: 0in 0in 0pt\; TEXT-ALIGN: justify">\n        <span style="mso-bidi-font-style: italic">The <b style="mso-bidi-font-weight: normal">7 Keys to Marketing Success</b></span> will be held at the Chamber\, 311 E Tyler in Harlingen\, on January 13 from \n        <st1:time w:st="on" Minute="00" Hour="14">2 pm</st1:time>\n        to \n        <st1:time w:st="on" Minute="00" Hour="16">4 pm</st1:time>\n        .<span style="mso-spacerun: yes">&nbsp\; </span>Attendees will learn how to answer questions about potential customers and how to reach these customers using the right message.<span style="mso-spacerun: yes">&nbsp\;The workshop\, presented in partnership with the UTPA Small Business Development Center\, will help business owners on identifying customers\, selling\, and how to develop a marketing plan.<span style="mso-spacerun: yes">&nbsp\; </span></span>\n    </p>\n    <p class="MsoNormal" style="TEXT-JUSTIFY: inter-ideograph\; MARGIN: 0in 0in 0pt\; TEXT-ALIGN: justify">\n        <o:p>&nbsp\;</o:p>\n        <span style="mso-bidi-font-style: italic">''Small business owners really need to understand who their potential customers are and where to find them before they spend money on trying to attract them. A great amount of marketing effort is misdirected at individuals who are not potential customers.<span style="mso-spacerun: yes">&nbsp\; </span>Advertising and marketing\, while essential\, is too expensive to squander.''</span> said Cristina Cantu\, SBDC Business Advisor. \n    </p>\n  
LOCATION:
UID:e.1828.2277
SEQUENCE:3
DTSTAMP:20260422T112316Z
URL:https://business.harlingen.com/events/details/7-keys-to-small-business-marketing-success-01-13-2010-2277
END:VEVENT

END:VCALENDAR
