BEGIN:VCALENDAR
VERSION:2.0
PRODID:-//ChamberMaster//Event Calendar 2.0//EN
METHOD:PUBLISH
X-PUBLISHED-TTL:P3D
REFRESH-INTERVAL:P3D
CALSCALE:GREGORIAN
BEGIN:VEVENT
DTSTART:20120427T113000Z
DTEND:20120427T113000Z
X-MICROSOFT-CDO-ALLDAYEVENT:FALSE
SUMMARY:7th Annual Charity Fishing Tournament Senoritas on the Bay
DESCRIPTION:South Padre Island 2012 "7th Annual Charity Fishing Tournament Senoritas on The Bay"\, Junior League of Harlingen. 1st\, 2nd\, 3rd place Redfish and Trout overall boat and Flounder awards!\nPre- register by April 2nd--$75.00 Per Angler- After- April 2nd- - $100.00 Per Angler.\n\nFriday\, April 27th: Kick off party/registration/Calcutta Sapphire Condos and SPA\, 5:30PM\n\nSaturday\, 28th fishing begins at 6:30AM\, weigh in\, Sea Ranch Restaurant 2-4PM\n\nMore information: 2012senoritasonthebay@gmail.com or www.juniorleagueharlingen
X-ALT-DESC;FMTTYPE=text/html:South Padre Island 2012 "7th Annual Charity Fishing Tournament Senoritas on The Bay"\, Junior League of Harlingen. 1st\, 2nd\, 3rd place Redfish and Trout overall boat and Flounder awards!\nPre- register by April 2nd--$75.00 Per Angler- After- April 2nd- - $100.00 Per Angler.\n\nFriday\, April 27th: Kick off party/registration/Calcutta Sapphire Condos and SPA\, 5:30PM\n\nSaturday\, 28th fishing begins at 6:30AM\, weigh in\, Sea Ranch Restaurant 2-4PM\n\nMore information: 2012senoritasonthebay@gmail.com or www.juniorleagueharlingen
LOCATION:
UID:e.1828.3459
SEQUENCE:3
DTSTAMP:20260420T164109Z
URL:https://business.harlingen.com/events/details/7th-annual-charity-fishing-tournament-senoritas-on-the-bay-04-27-2012-3459
END:VEVENT

END:VCALENDAR
