BEGIN:VCALENDAR
VERSION:2.0
PRODID:-//ChamberMaster//Event Calendar 2.0//EN
METHOD:PUBLISH
X-PUBLISHED-TTL:P3D
REFRESH-INTERVAL:P3D
CALSCALE:GREGORIAN
BEGIN:VEVENT
DTSTART:20110117T170000Z
DTEND:20110117T200000Z
X-MICROSOFT-CDO-ALLDAYEVENT:FALSE
SUMMARY:7th Annual Winter Texan Appreciation Fiesta
DESCRIPTION:The public is welcome to come and greet the Winter Texans! Live band\, business expo\, food vendors\, local performance program from Youth Dancing & Singing\, and D.J. entertainment. First 2\,000 people receive a free t-shirt. Free admission and free parking! For more information\, please call the Harlingen Parks and Recreation Department at (956) 216-5950.
X-ALT-DESC;FMTTYPE=text/html:The public is welcome to come and greet the Winter Texans! Live band\, business expo\, food vendors\, local performance program from Youth Dancing & Singing\, and D.J. entertainment. First 2\,000 people receive a free t-shirt. Free admission and free parking! For more information\, please call the Harlingen Parks and Recreation Department at (956) 216-5950. \n
LOCATION:
UID:e.1828.2694
SEQUENCE:3
DTSTAMP:20260421T154739Z
URL:https://business.harlingen.com/events/details/7th-annual-winter-texan-appreciation-fiesta-01-17-2011-2694
END:VEVENT

END:VCALENDAR
