BEGIN:VCALENDAR
VERSION:2.0
PRODID:-//ChamberMaster//Event Calendar 2.0//EN
METHOD:PUBLISH
X-PUBLISHED-TTL:P3D
REFRESH-INTERVAL:P3D
CALSCALE:GREGORIAN
BEGIN:VEVENT
DTSTART:20111118T003000Z
DTEND:20111118T033000Z
X-MICROSOFT-CDO-ALLDAYEVENT:FALSE
SUMMARY:7th Girls Night Out
DESCRIPTION:Benefiting Rotary Club of Harlingen. Ladies\, grab your girlfriends\, Men\, treat the special women you know with tickets to this special evening. Everyone loves a Girls Night Out of Spa Treatments\, and Holiday Gift Shopping! \n\nSPA Services and Vendors:\nAdvocare with Brooke Burns\, BeautiControl\, Bloomers Flowers & Gifts\, Golden Palms Retirement Center\, Initial Here Monogramming\, Lasermaid Therapy Center\, SwissJust Natural Products\, Laura Knight Clausen\,\nScentsy Consultant\, Quelle Boutique\, Social Situations\, Spa La Posada\, Stella & Dot by Kara Smith\, Stephanie's Apres Vu Hair Salon and Day Spa\, Taubert Farm and Ranch\, Xaviers Hair Salon and much\, much more!\nMarine Military Academy CAC Building-Harlingen (follow directional signs upon entry to campus.\nAdvance Tickets $25.00\nAt- The- Door- $35.00
X-ALT-DESC;FMTTYPE=text/html:Benefiting Rotary Club of Harlingen. Ladies\, grab your girlfriends\, Men\, treat the special women you know with tickets to this special evening. Everyone loves a Girls Night Out of Spa Treatments\, and Holiday Gift Shopping! \n\nSPA Services and Vendors:\nAdvocare with Brooke Burns\, BeautiControl\, Bloomers Flowers & Gifts\, Golden Palms Retirement Center\, Initial Here Monogramming\, Lasermaid Therapy Center\, SwissJust Natural Products\, Laura Knight Clausen\,\nScentsy Consultant\, Quelle Boutique\, Social Situations\, Spa La Posada\, Stella & Dot by Kara Smith\, Stephanie's Apres Vu Hair Salon and Day Spa\, Taubert Farm and Ranch\, Xaviers Hair Salon and much\, much more!\nMarine Military Academy CAC Building-Harlingen (follow directional signs upon entry to campus.\nAdvance Tickets $25.00\nAt- The- Door- $35.00
LOCATION:Follow directional signs upon entry to campus.
UID:e.1828.3227
SEQUENCE:3
DTSTAMP:20260421T003202Z
URL:https://business.harlingen.com/events/details/7th-girls-night-out-11-17-2011-3227
END:VEVENT

END:VCALENDAR
