BEGIN:VCALENDAR
VERSION:2.0
PRODID:-//ChamberMaster//Event Calendar 2.0//EN
METHOD:PUBLISH
X-PUBLISHED-TTL:P3D
REFRESH-INTERVAL:P3D
CALSCALE:GREGORIAN
BEGIN:VEVENT
DTSTART:20120116T170000Z
DTEND:20120116T200000Z
X-MICROSOFT-CDO-ALLDAYEVENT:FALSE
SUMMARY:8th Annual Winter Texas Appreciation Fiesta
DESCRIPTION:The City of Harlingen is proud to announce our 8th Annual Winter Texan Appreciation Fiesta. We anticipate 3\,000 of our Winter Friends to attend this year\, so please join us in welcoming them to Harlingen. \nFor more information call City of Harlingen\, Park and Recreation Department 956-216-5990.
X-ALT-DESC;FMTTYPE=text/html:The City of Harlingen is proud to announce our 8th Annual Winter Texan Appreciation Fiesta. We anticipate 3\,000 of our Winter Friends to attend this year\, so please join us in welcoming them to Harlingen. \nFor more information call City of Harlingen\, Park and Recreation Department 956-216-5990.
LOCATION:
UID:e.1828.3294
SEQUENCE:3
DTSTAMP:20260420T225445Z
URL:https://business.harlingen.com/events/details/8th-annual-winter-texas-appreciation-fiesta-01-16-2012-3294
END:VEVENT

END:VCALENDAR
