BEGIN:VCALENDAR
VERSION:2.0
PRODID:-//ChamberMaster//Event Calendar 2.0//EN
METHOD:PUBLISH
X-PUBLISHED-TTL:P3D
REFRESH-INTERVAL:P3D
CALSCALE:GREGORIAN
BEGIN:VEVENT
DTSTART:20110910T230000Z
DTEND:20110911T010000Z
X-MICROSOFT-CDO-ALLDAYEVENT:FALSE
SUMMARY:911 Candlelight Vigil
DESCRIPTION:Volunteers needed for a candlelight vigil in memory of those lost in the terrorist attacks on September 11\, 2001. Volunteers are needed to park vehicles\, direct foot traffic\, distribute water\, etc. If you are able to help\, please contact Ruben M. Cantu Veterans' Advisory Board (956) 893-0680.
X-ALT-DESC;FMTTYPE=text/html:Volunteers needed for a candlelight vigil in memory of those lost in the terrorist attacks on September 11\, 2001. Volunteers are needed to park vehicles\, direct foot traffic\, distribute water\, etc. If you are able to help\, please contact Ruben M. Cantu Veterans' Advisory Board (956) 893-0680.\n
LOCATION:
UID:e.1828.3158
SEQUENCE:3
DTSTAMP:20260421T051026Z
URL:https://business.harlingen.com/events/details/911-candlelight-vigil-09-10-2011-3158
END:VEVENT

END:VCALENDAR
