BEGIN:VCALENDAR
VERSION:2.0
PRODID:-//ChamberMaster//Event Calendar 2.0//EN
METHOD:PUBLISH
X-PUBLISHED-TTL:P3D
REFRESH-INTERVAL:P3D
CALSCALE:GREGORIAN
BEGIN:VEVENT
DTSTART;VALUE=DATE:20090814
DTEND;VALUE=DATE:20090901
TRANSP:TRANSPARENT
X-MICROSOFT-CDO-ALLDAYEVENT:TRUE
SUMMARY:A Cool Summer Deal at Canterbury Court
DESCRIPTION:Canterbury Court has a deal so hot it's really cool!  Move in by August 31\, 2009 and your monthly rate will be frozen for the next 3 years!  If you are looking for a lifestyle that includes delicious meals\, stimulating conversation\, life-enriching activities\, attentive staff & your own climate control\, Canterbury Court has it all.  Call or stop by for a visit today.  For more information\, please contact Santos Barrientos at 956-412-7000.
X-ALT-DESC;FMTTYPE=text/html:Canterbury Court has a deal so hot it's really cool!  Move in by August 31\, 2009 and your monthly rate will be frozen for the next 3 years!  If you are looking for a lifestyle that includes delicious meals\, stimulating conversation\, life-enriching activities\, attentive staff & your own climate control\, Canterbury Court has it all.  Call or stop by for a visit today.  For more information\, please contact Santos Barrientos at 956-412-7000.
LOCATION:
UID:e.1828.2020
SEQUENCE:3
DTSTAMP:20260422T081110Z
URL:https://business.harlingen.com/events/details/a-cool-summer-deal-at-canterbury-court-08-14-2009-2020
END:VEVENT

END:VCALENDAR
