BEGIN:VCALENDAR
VERSION:2.0
PRODID:-//ChamberMaster//Event Calendar 2.0//EN
METHOD:PUBLISH
X-PUBLISHED-TTL:P3D
REFRESH-INTERVAL:P3D
CALSCALE:GREGORIAN
BEGIN:VEVENT
DTSTART:20101016T150000Z
DTEND:20101016T190000Z
X-MICROSOFT-CDO-ALLDAYEVENT:FALSE
SUMMARY:A "Fall Nursing " Job Fair
DESCRIPTION:Nursing Jobs Fair to be held at Valley Baptist Medical Center in Harlingen. Graduate nurses and experienced registered nurses who are seeking full-time\, part-time and per-diem positions can come inside Valley Baptist's Main Entrance (South Tower) on Pease Street (off Ed Carey Drive) and proceed into the Woodward Conference Center\, on the first floor of the hospital\, to meet with managers for on-the-spot interviews.  Job seekers may also apply on-line\, at www.valleybaptist.net.  For more information please call (956) 389-6817 or 698-5797  Michael Swartz\, Corporate Communications\, Valley Baptist Health System.
X-ALT-DESC;FMTTYPE=text/html:Nursing Jobs Fair to be held at Valley Baptist Medical Center in Harlingen. Graduate nurses and experienced registered nurses who are seeking full-time\, part-time and per-diem positions can come inside Valley Baptist's Main Entrance (South Tower) on Pease Street (off Ed Carey Drive) and proceed into the Woodward Conference Center\, on the first floor of the hospital\, to meet with managers for on-the-spot interviews.  Job seekers may also apply on-line\, at www.valleybaptist.net.  For more information please call (956) 389-6817 or 698-5797  Michael Swartz\, Corporate Communications\, Valley Baptist Health System.\n
LOCATION:
UID:e.1828.2792
SEQUENCE:3
DTSTAMP:20260421T222020Z
URL:https://business.harlingen.com/events/details/a-fall-nursing-job-fair-10-16-2010-2792
END:VEVENT

END:VCALENDAR
