BEGIN:VCALENDAR
VERSION:2.0
PRODID:-//ChamberMaster//Event Calendar 2.0//EN
METHOD:PUBLISH
X-PUBLISHED-TTL:P3D
REFRESH-INTERVAL:P3D
CALSCALE:GREGORIAN
BEGIN:VEVENT
DTSTART:20091219T160000Z
DTEND:20091219T160000Z
X-MICROSOFT-CDO-ALLDAYEVENT:FALSE
SUMMARY:A Fort Brown Christmas
DESCRIPTION:The Brownsville Historical Association invites the community to come celebrate Christmas at Fort Brown with a presentation by Carl Chilton\, author of Fort Brown: the First Border Post\, followed by a tour of Fort Brown by UTB/TSC professor Jim Mills. The event is free for BHA members and $5 for non-members. Sponsored in part by the City of Brownsville. Walking tour is limited to the first 30 participants.
X-ALT-DESC;FMTTYPE=text/html:The Brownsville Historical Association invites the community to come celebrate Christmas at Fort Brown with a presentation by Carl Chilton\, author of Fort Brown: the First Border Post\, followed by a tour of Fort Brown by UTB/TSC professor Jim Mills. The event is free for BHA members and $5 for non-members. Sponsored in part by the City of Brownsville. Walking tour is limited to the first 30 participants.
LOCATION:Brownsville Heritage Complex
UID:e.1828.2265
SEQUENCE:3
DTSTAMP:20260422T125928Z
URL:https://business.harlingen.com/events/details/a-fort-brown-christmas-12-19-2009-2265
END:VEVENT

END:VCALENDAR
