BEGIN:VCALENDAR
VERSION:2.0
PRODID:-//ChamberMaster//Event Calendar 2.0//EN
METHOD:PUBLISH
X-PUBLISHED-TTL:P3D
REFRESH-INTERVAL:P3D
CALSCALE:GREGORIAN
BEGIN:VEVENT
DTSTART:20110714T003000Z
DTEND:20110714T023000Z
X-MICROSOFT-CDO-ALLDAYEVENT:FALSE
SUMMARY:''A Garden Soiree''
DESCRIPTION:A fundraiser hosted by Provacouture Productions\n$10 ticket donation\nFood and beverages served\; music provided by cast of Spring Awakening \nCall Javier Jaramillo – (210) 421-1106\nJennifer Vasquez (956) 245-4504
X-ALT-DESC;FMTTYPE=text/html:A fundraiser hosted by Provacouture Productions\n$10 ticket donation\nFood and beverages served\; music provided by cast of Spring Awakening \nCall Javier Jaramillo – (210) 421-1106\nJennifer Vasquez (956) 245-4504 \n\n\n
LOCATION:
UID:e.1828.3102
SEQUENCE:3
DTSTAMP:20260421T063913Z
URL:https://business.harlingen.com/events/details/a-garden-soiree-07-13-2011-3102
END:VEVENT

END:VCALENDAR
