BEGIN:VCALENDAR
VERSION:2.0
PRODID:-//ChamberMaster//Event Calendar 2.0//EN
METHOD:PUBLISH
X-PUBLISHED-TTL:P3D
REFRESH-INTERVAL:P3D
CALSCALE:GREGORIAN
BEGIN:VEVENT
DTSTART:20110714T003000Z
DTEND:20110714T023000Z
X-MICROSOFT-CDO-ALLDAYEVENT:FALSE
SUMMARY:A Garden Soiree Fundraiser
DESCRIPTION:Provacouture Productions [K3]\, a new production company founded by respected voice teacher and tenor Xavier Jaramillo\, will host a fundraiser called A Garden Soiree on July 13\, 2011 from 7:30pm-9:30pm.  Proceeds will benefit the production of  smash hit musical Spring Awakening at Cine El Rey historic theatre in McAllen on August 20 & 21.  \nFoodies will love the gourmet hors d'oeuvres and wine selection.  Those who appreciate local talent will enjoy previewing the cast and music of Spring Awakening.\nPlease come out and support Harlingen's burgeoning talent and the exciting debut of Provacouture Productions [K3].\nWhere:  The Frank Jaramillo Residence at 1902 S. First\, Harlingen\nTicket donations are $10 per person.  \nFor more information\, please call Xavier Jaramillo at 210-421-1106/provacouture2005@aol.com or Jennifer Vasquez at (956) 245-4504/jennifervasquez831@gmail.com
X-ALT-DESC;FMTTYPE=text/html:Provacouture Productions [K3]\, a new production company founded by respected voice teacher and tenor Xavier Jaramillo\, will host a fundraiser called A Garden Soiree on July 13\, 2011 from 7:30pm-9:30pm.  Proceeds will benefit the production of  smash hit musical Spring Awakening at Cine El Rey historic theatre in McAllen on August 20 & 21.  \nFoodies will love the gourmet hors d'oeuvres and wine selection.  Those who appreciate local talent will enjoy previewing the cast and music of Spring Awakening.\nPlease come out and support Harlingen's burgeoning talent and the exciting debut of Provacouture Productions [K3].\nWhere:  The Frank Jaramillo Residence at 1902 S. First\, Harlingen\nTicket donations are $10 per person.  \nFor more information\, please call Xavier Jaramillo at 210-421-1106/provacouture2005@aol.com or Jennifer Vasquez at (956) 245-4504/jennifervasquez831@gmail.com\n
LOCATION:The Frank Jaramillo Residence 1902 S. First Harlingen\, TX 78550
UID:e.1828.3247
SEQUENCE:3
DTSTAMP:20260421T063934Z
URL:https://business.harlingen.com/events/details/a-garden-soiree-fundraiser-07-13-2011-3247
END:VEVENT

END:VCALENDAR
