BEGIN:VCALENDAR
VERSION:2.0
PRODID:-//ChamberMaster//Event Calendar 2.0//EN
METHOD:PUBLISH
X-PUBLISHED-TTL:P3D
REFRESH-INTERVAL:P3D
CALSCALE:GREGORIAN
BEGIN:VEVENT
DTSTART:20111203T010000Z
DTEND:20111203T010000Z
X-MICROSOFT-CDO-ALLDAYEVENT:FALSE
SUMMARY:"A Glowing Xmas" Harlingen Christmas Parade
DESCRIPTION:The RGV Jaycees invite you to  bring your family and enjoy the traditional yearly parade. Parade will begin on Jackson and 4th Street ends on Jackson and "E" Street. Participants are encouraged to decorate with (but not limited to) glow sticks or Christmas Lights to make Harlingen Glow! For more information please call Jessica Fierros 956-545-6087 or rgv.jaycees.com
X-ALT-DESC;FMTTYPE=text/html:The RGV Jaycees invite you to  bring your family and enjoy the traditional yearly parade. Parade will begin on Jackson and 4th Street ends on Jackson and "E" Street. Participants are encouraged to decorate with (but not limited to) glow sticks or Christmas Lights to make Harlingen Glow! For more information please call Jessica Fierros 956-545-6087 or rgv.jaycees.com
LOCATION:
UID:e.1828.3214
SEQUENCE:3
DTSTAMP:20260421T003402Z
URL:https://business.harlingen.com/events/details/a-glowing-xmas-harlingen-christmas-parade-12-02-2011-3214
END:VEVENT

END:VCALENDAR
