BEGIN:VCALENDAR
VERSION:2.0
PRODID:-//ChamberMaster//Event Calendar 2.0//EN
METHOD:PUBLISH
X-PUBLISHED-TTL:P3D
REFRESH-INTERVAL:P3D
CALSCALE:GREGORIAN
BEGIN:VEVENT
DTSTART:20111020T220000Z
DTEND:20111020T220000Z
X-MICROSOFT-CDO-ALLDAYEVENT:FALSE
SUMMARY:A&M Nursing Services\, LLC Grand Re-Opening Celebration
DESCRIPTION:Come celebrate the Grand Re-Opening of A&M Nursing Service's new location. There will be a Ribbon Cutting ceremony followed with soft drinks\, Hors D'Oeuvres & Turkey "El Salvador" and music by Dulce.
X-ALT-DESC;FMTTYPE=text/html:Come celebrate the Grand Re-Opening of A&M Nursing Service's new location. There will be a Ribbon Cutting ceremony followed with soft drinks\, Hors D'Oeuvres & Turkey "El Salvador" and music by Dulce.     \n
LOCATION:
UID:e.1828.3170
SEQUENCE:3
DTSTAMP:20260421T021312Z
URL:https://business.harlingen.com/events/details/a-m-nursing-services-llc-grand-re-opening-celebration-10-20-2011-3170
END:VEVENT

END:VCALENDAR
