BEGIN:VCALENDAR
VERSION:2.0
PRODID:-//ChamberMaster//Event Calendar 2.0//EN
METHOD:PUBLISH
X-PUBLISHED-TTL:P3D
REFRESH-INTERVAL:P3D
CALSCALE:GREGORIAN
BEGIN:VEVENT
DTSTART:20100216T010000Z
DTEND:20100216T030000Z
X-MICROSOFT-CDO-ALLDAYEVENT:FALSE
SUMMARY:A Night of Strings: Arts Center Inaugural Event
DESCRIPTION:A scholarship benefit concert\, with performances by UT System Chancellor Francisco Cigarroa\, UTB/TSC students and faculty and youth musicians from our region.\n\nTickets: $50
X-ALT-DESC;FMTTYPE=text/html:A scholarship benefit concert\, with performances by UT System Chancellor Francisco Cigarroa\, UTB/TSC students and faculty and youth musicians from our region.\n\nTickets: $50\n
LOCATION:UTB/TSC main campus-The Arts Center
UID:e.1828.2355
SEQUENCE:3
DTSTAMP:20260422T094857Z
URL:https://business.harlingen.com/events/details/a-night-of-strings-arts-center-inaugural-event-02-15-2010-2355
END:VEVENT

END:VCALENDAR
