BEGIN:VCALENDAR
VERSION:2.0
PRODID:-//ChamberMaster//Event Calendar 2.0//EN
METHOD:PUBLISH
X-PUBLISHED-TTL:P3D
REFRESH-INTERVAL:P3D
CALSCALE:GREGORIAN
BEGIN:VEVENT
DTSTART:20091212T140000Z
DTEND:20091212T230000Z
X-MICROSOFT-CDO-ALLDAYEVENT:FALSE
SUMMARY:A.R.Y.A. (Active Relationships for Young Adults) Youth Rally
DESCRIPTION:A.R.Y.A. (Active Relationships for Young Adults) is having a Youth Rally for young people 14+ hosted by H.A.R.P. Cameron County. This rally will provide young adults with the ability to determine their values and goals\, choose the right friends and develop POWER thinking. Slots still available! Register now!
X-ALT-DESC;FMTTYPE=text/html:A.R.Y.A. (Active Relationships for Young Adults) is having a Youth Rally for young people 14+ hosted by H.A.R.P. Cameron County. This rally will provide young adults with the ability to determine their values and goals\, choose the right friends and develop POWER thinking. Slots still available! Register now!
LOCATION:1601 Alton Gloor\, Bldg\, A\, Brownsville\, Texas
UID:e.1828.2263
SEQUENCE:3
DTSTAMP:20260422T130508Z
URL:https://business.harlingen.com/events/details/a-r-y-a-active-relationships-for-young-adults-youth-rally-12-12-2009-2263
END:VEVENT

END:VCALENDAR
