BEGIN:VCALENDAR
VERSION:2.0
PRODID:-//ChamberMaster//Event Calendar 2.0//EN
METHOD:PUBLISH
X-PUBLISHED-TTL:P3D
REFRESH-INTERVAL:P3D
CALSCALE:GREGORIAN
BEGIN:VEVENT
DTSTART:20110916T000000Z
DTEND:20110916T000000Z
X-MICROSOFT-CDO-ALLDAYEVENT:FALSE
SUMMARY:A Red Carpet Season Kick-Off Mystery Theatre & Chair-ity Auction event
DESCRIPTION:El Paseo Arts Foundation Red Carpet Season Kick-Off Event Chair-ity Auction and Mystery Theatre Event "Murder at the TonyLou Awards" at the South Padre Island Hilton Garden Inn.  Tickets $30/person available online at www.elpaseoarts.org or at tickets outlets: SPI Visitors Center\, Paragraphs Book Store and Designer Consigner in Port Isabel.
X-ALT-DESC;FMTTYPE=text/html:El Paseo Arts Foundation Red Carpet Season Kick-Off Event Chair-ity Auction and Mystery Theatre Event "Murder at the TonyLou Awards" at the South Padre Island Hilton Garden Inn.  Tickets $30/person available online at www.elpaseoarts.org or at tickets outlets: SPI Visitors Center\, Paragraphs Book Store and Designer Consigner in Port Isabel.
LOCATION:South Padre Island Hilton Garden Inn on Padre Boulevard
UID:e.1828.3211
SEQUENCE:3
DTSTAMP:20260421T035646Z
URL:https://business.harlingen.com/events/details/a-red-carpet-season-kick-off-mystery-theatre-chair-ity-auction-event-09-15-2011-3211
END:VEVENT

END:VCALENDAR
