BEGIN:VCALENDAR
VERSION:2.0
PRODID:-//ChamberMaster//Event Calendar 2.0//EN
METHOD:PUBLISH
X-PUBLISHED-TTL:P3D
REFRESH-INTERVAL:P3D
CALSCALE:GREGORIAN
BEGIN:VEVENT
DTSTART:20121027T223000Z
DTEND:20121027T223000Z
X-MICROSOFT-CDO-ALLDAYEVENT:FALSE
SUMMARY:A Spooktacular Halloween at the Park
DESCRIPTION:Have some spooky Halloween fun starts at 5:30pm\, Rangerville Park location at 1101 Rangerville Road.  Kids ages 1 – 10 can trick or treat at the park and enjoy carnival games and much more.  For more information\, contact the parks department at 956-216-5951 or  (956) 873-0391.
X-ALT-DESC;FMTTYPE=text/html:Have some spooky Halloween fun starts at 5:30pm\, Rangerville Park location at 1101 Rangerville Road.  Kids ages 1 – 10 can trick or treat at the park and enjoy carnival games and much more.  For more information\, contact the parks department at 956-216-5951 or  (956) 873-0391.\n\n
LOCATION:
UID:e.1828.4028
SEQUENCE:3
DTSTAMP:20260420T084355Z
URL:https://business.harlingen.com/events/details/a-spooktacular-halloween-at-the-park-10-27-2012-4028
END:VEVENT

END:VCALENDAR
