BEGIN:VCALENDAR
VERSION:2.0
PRODID:-//ChamberMaster//Event Calendar 2.0//EN
METHOD:PUBLISH
X-PUBLISHED-TTL:P3D
REFRESH-INTERVAL:P3D
CALSCALE:GREGORIAN
BEGIN:VEVENT
DTSTART:20101031T210000Z
DTEND:20101101T000000Z
X-MICROSOFT-CDO-ALLDAYEVENT:FALSE
SUMMARY:" A SPOOKTACULAR HALLOWEEN at the PARK"
DESCRIPTION:Have some spooky Halloween fun at Rangerville Park at 1101 Rangerville Road.  Kids ages 1 – 10 can trick or treat at the park and enjoy carnival games and much more.  Volunteers are needed to help with the Game Booths\, passing out candy and to act as Street Crossing Guards (adults only).  Cakes are needed for the Cake Walk!  FREE ADMISSION & FREE PARKING.  If you would like to volunteer for this event or donate a cake\, please contact Esmeralda Martinez at 956-873-0391.
X-ALT-DESC;FMTTYPE=text/html:Have some spooky Halloween fun at Rangerville Park at 1101 Rangerville Road.  Kids ages 1 – 10 can trick or treat at the park and enjoy carnival games and much more.  Volunteers are needed to help with the Game Booths\, passing out candy and to act as Street Crossing Guards (adults only).  Cakes are needed for the Cake Walk!  FREE ADMISSION & FREE PARKING.  If you would like to volunteer for this event or donate a cake\, please contact Esmeralda Martinez at 956-873-0391.\n
LOCATION:Rangerville Park on Rangerville Rd.
UID:e.1828.2677
SEQUENCE:3
DTSTAMP:20260421T203639Z
URL:https://business.harlingen.com/events/details/a-spooktacular-halloween-at-the-park-10-31-2010-2677
END:VEVENT

END:VCALENDAR
