BEGIN:VCALENDAR
VERSION:2.0
PRODID:-//ChamberMaster//Event Calendar 2.0//EN
METHOD:PUBLISH
X-PUBLISHED-TTL:P3D
REFRESH-INTERVAL:P3D
CALSCALE:GREGORIAN
BEGIN:VEVENT
DTSTART:20111029T230000Z
DTEND:20111030T020000Z
X-MICROSOFT-CDO-ALLDAYEVENT:FALSE
SUMMARY:"A Spooktacular Halloween in the Park"
DESCRIPTION:City of Harlingen is hosting a " Spooktacular Halloween in the Park"\, Trick-or- Treat Sites\, Game Booths\, Haunted Trail\, Zumba\, and much more! For more information please call Harlingen Parks and Recreation Department at 956-216-5950.
X-ALT-DESC;FMTTYPE=text/html:City of Harlingen is hosting a " Spooktacular Halloween in the Park"\, Trick-or- Treat Sites\, Game Booths\, Haunted Trail\, Zumba\, and much more! For more information please call Harlingen Parks and Recreation Department at 956-216-5950.
LOCATION:
UID:e.1828.3224
SEQUENCE:3
DTSTAMP:20260421T021425Z
URL:https://business.harlingen.com/events/details/a-spooktacular-halloween-in-the-park-10-29-2011-3224
END:VEVENT

END:VCALENDAR
