BEGIN:VCALENDAR
VERSION:2.0
PRODID:-//ChamberMaster//Event Calendar 2.0//EN
METHOD:PUBLISH
X-PUBLISHED-TTL:P3D
REFRESH-INTERVAL:P3D
CALSCALE:GREGORIAN
BEGIN:VEVENT
DTSTART;VALUE=DATE:20110314
DTEND;VALUE=DATE:20110414
TRANSP:TRANSPARENT
X-MICROSOFT-CDO-ALLDAYEVENT:TRUE
SUMMARY:"A Spring of Blessings" for our RGV Troops!
DESCRIPTION:Hello Chamber members!  Spring time is approaching & so is the Easter holiday.  You can help make the Easter holiday extra special for our RGV Troops serving overseas by participating in "A Spring of Blessings" campaign.  Please refer to our website for more information and complete list of items & to view the campaign poster! \n www.americanmilitarysupport.com \n \n********************************************************************
X-ALT-DESC;FMTTYPE=text/html:Hello Chamber members!  Spring time is approaching & so is the Easter holiday.  You can help make the Easter holiday extra special for our RGV Troops serving overseas by participating in "A Spring of Blessings" campaign.  Please refer to our website for more information and complete list of items & to view the campaign poster! \n www.americanmilitarysupport.com \n \n******************************************************************** \n
LOCATION:
UID:e.1828.3008
SEQUENCE:3
DTSTAMP:20260421T112039Z
URL:https://business.harlingen.com/events/details/a-spring-of-blessings-for-our-rgv-troops-03-14-2011-3008
END:VEVENT

END:VCALENDAR
