BEGIN:VCALENDAR
VERSION:2.0
PRODID:-//ChamberMaster//Event Calendar 2.0//EN
METHOD:PUBLISH
X-PUBLISHED-TTL:P3D
REFRESH-INTERVAL:P3D
CALSCALE:GREGORIAN
BEGIN:VEVENT
DTSTART:20120221T183000Z
DTEND:20120221T200000Z
X-MICROSOFT-CDO-ALLDAYEVENT:FALSE
SUMMARY:"A Taste of New Orleans" Winter Texas Mardi Gras Bash
DESCRIPTION:Tours\, Food\, Drinks and Live Entertainment. Donations to benefit Loaves and Fishes of Harlingen. For more information call Linda Uribe\,956-430-3169 or Logan Cleary 956-430-3100.
X-ALT-DESC;FMTTYPE=text/html:Tours\, Food\, Drinks and Live Entertainment. Donations to benefit Loaves and Fishes of Harlingen. For more information call Linda Uribe\,956-430-3169 or Logan Cleary 956-430-3100. \n
LOCATION:The Courtyard at Golden Palms
UID:e.1828.3423
SEQUENCE:3
DTSTAMP:20260420T212632Z
URL:https://business.harlingen.com/events/details/a-taste-of-new-orleans-winter-texas-mardi-gras-bash-02-21-2012-3423
END:VEVENT

END:VCALENDAR
