BEGIN:VCALENDAR
VERSION:2.0
PRODID:-//ChamberMaster//Event Calendar 2.0//EN
METHOD:PUBLISH
X-PUBLISHED-TTL:P3D
REFRESH-INTERVAL:P3D
CALSCALE:GREGORIAN
BEGIN:VEVENT
DTSTART:20111202T020000Z
DTEND:20111202T020000Z
X-MICROSOFT-CDO-ALLDAYEVENT:FALSE
SUMMARY:A Touch of Frost Holiday Concert
DESCRIPTION:A Valley Tradition! Holiday Favorites for full symphony orchestra and 130-Voice Chorale\; Valley Symphony Orchestra & Chorale. Concert sponsors: Frost Bank\, Wanda Boush. Tickets available at the McAllen Convention Center Box Office Ticketmaster (800) 745-3000 or ticketmaster.com.
X-ALT-DESC;FMTTYPE=text/html:A Valley Tradition! Holiday Favorites for full symphony orchestra and 130-Voice Chorale\; Valley Symphony Orchestra & Chorale. Concert sponsors: Frost Bank\, Wanda Boush. Tickets available at the McAllen Convention Center Box Office Ticketmaster (800) 745-3000 or ticketmaster.com. \n
LOCATION:
UID:e.1828.3277
SEQUENCE:3
DTSTAMP:20260420T225618Z
URL:https://business.harlingen.com/events/details/a-touch-of-frost-holiday-concert-12-01-2011-3277
END:VEVENT

END:VCALENDAR
