BEGIN:VCALENDAR
VERSION:2.0
PRODID:-//ChamberMaster//Event Calendar 2.0//EN
METHOD:PUBLISH
X-PUBLISHED-TTL:P3D
REFRESH-INTERVAL:P3D
CALSCALE:GREGORIAN
BEGIN:VEVENT
DTSTART:20101111T160000Z
DTEND:20101111T160000Z
X-MICROSOFT-CDO-ALLDAYEVENT:FALSE
SUMMARY:A Veterans' Day Tribute Honoring all Veterans
DESCRIPTION:All are welcome in honor of all veterans.  Host by The Harlingen Police Department.
X-ALT-DESC;FMTTYPE=text/html:All are welcome in honor of all veterans.  Host by The Harlingen Police Department.
LOCATION:Flag pole in front of the Police Department building.
UID:e.1828.2820
SEQUENCE:3
DTSTAMP:20260421T203638Z
URL:https://business.harlingen.com/events/details/a-veterans-day-tribute-honoring-all-veterans-11-11-2010-2820
END:VEVENT

END:VCALENDAR
