BEGIN:VCALENDAR
VERSION:2.0
PRODID:-//ChamberMaster//Event Calendar 2.0//EN
METHOD:PUBLISH
X-PUBLISHED-TTL:P3D
REFRESH-INTERVAL:P3D
CALSCALE:GREGORIAN
BEGIN:VEVENT
DTSTART:20111030T000000Z
DTEND:20111030T040000Z
X-MICROSOFT-CDO-ALLDAYEVENT:FALSE
SUMMARY:A Winederful Evening
DESCRIPTION:A Winederful Evening Proudly presented by The Junior League of Harlingen\nWine Tasting and Small Plates | $75 per person | Seating is limited\nSponsored by The Cellar Fine Wine & Spirits for tickets call Maribel (956) 440-1300.
X-ALT-DESC;FMTTYPE=text/html:A Winederful Evening Proudly presented by The Junior League of Harlingen\nWine Tasting and Small Plates | $75 per person | Seating is limited\nSponsored by The Cellar Fine Wine & Spirits for tickets call Maribel (956) 440-1300.\n\n
LOCATION:
UID:e.1828.3200
SEQUENCE:3
DTSTAMP:20260421T021106Z
URL:https://business.harlingen.com/events/details/a-winederful-evening-10-29-2011-3200
END:VEVENT

END:VCALENDAR
