BEGIN:VCALENDAR
VERSION:2.0
PRODID:-//ChamberMaster//Event Calendar 2.0//EN
METHOD:PUBLISH
X-PUBLISHED-TTL:P3D
REFRESH-INTERVAL:P3D
CALSCALE:GREGORIAN
BEGIN:VEVENT
DTSTART:20100912T000000Z
DTEND:20100912T000000Z
X-MICROSOFT-CDO-ALLDAYEVENT:FALSE
SUMMARY:Aaron Watson in Concert
DESCRIPTION:Country Music Fans! Love your country music and the State of Texas? Texas Country Music Star AARON WATSON will be in Harlingen at Wild Bills Saloon on Satruday\, September 11th at 7 pm! Get your tickets today at Cavenders Boot City in Brownsville/McAllen or the Boot Jack!  For more information\, please call Wild Bill's at 956-425-2900.
X-ALT-DESC;FMTTYPE=text/html:Country Music Fans! Love your country music and the State of Texas? Texas Country Music Star AARON WATSON will be in Harlingen at Wild Bills Saloon on Satruday\, September 11th at 7 pm! Get your tickets today at Cavenders Boot City in Brownsville/McAllen or the Boot Jack!  For more information\, please call Wild Bill's at 956-425-2900.\n\n
LOCATION:
UID:e.1828.2744
SEQUENCE:3
DTSTAMP:20260421T222912Z
URL:https://business.harlingen.com/events/details/aaron-watson-in-concert-09-11-2010-2744
END:VEVENT

END:VCALENDAR
