BEGIN:VCALENDAR
VERSION:2.0
PRODID:-//ChamberMaster//Event Calendar 2.0//EN
METHOD:PUBLISH
X-PUBLISHED-TTL:P3D
REFRESH-INTERVAL:P3D
CALSCALE:GREGORIAN
BEGIN:VEVENT
DTSTART:20120507T220000Z
DTEND:20120508T000000Z
X-MICROSOFT-CDO-ALLDAYEVENT:FALSE
SUMMARY:Action 4 News Live Political Town Hall Meeting
DESCRIPTION:Action 4 News\, in conjunction with News Talk 710 KURV and the Rio Grande Guardian\, is hosting and broadcasting LIVE two Political Town Hall meetings. \n\nLive Monday May 7th\, Edinburg Conference Center at Renaissance\, 118 Paso Del Prado-CD- 15 & HD-40.\n\nLive Wed. May 9th\, Harlingen-Yeckel Auditorium\, Marine Military Academy- CD-34.\n\nSpecial seating accommodations for Chamber members will be available. If you would like to attend the Wednesday event\, please contact Jacque or Maggie at 956-423-5440 by 12:00 p.m. (noon)\, Tuesday May 8\, 2012.  Open to the public\, first come first served\, doors open at 4:00 p.m.\, doors close at 4:45.
X-ALT-DESC;FMTTYPE=text/html:Action 4 News\, in conjunction with News Talk 710 KURV and the Rio Grande Guardian\, is hosting and broadcasting LIVE two Political Town Hall meetings. \n\nLive Monday May 7th\, Edinburg Conference Center at Renaissance\, 118 Paso Del Prado-CD- 15 & HD-40.\n\nLive Wed. May 9th\, Harlingen-Yeckel Auditorium\, Marine Military Academy- CD-34.\n\nSpecial seating accommodations for Chamber members will be available. If you would like to attend the Wednesday event\, please contact Jacque or Maggie at 956-423-5440 by 12:00 p.m. (noon)\, Tuesday May 8\, 2012.  Open to the public\, first come first served\, doors open at 4:00 p.m.\, doors close at 4:45. \n\n\n\n
LOCATION:
UID:e.1828.3652
SEQUENCE:3
DTSTAMP:20260420T151012Z
URL:https://business.harlingen.com/events/details/action-4-news-live-political-town-hall-meeting-05-07-2012-3652
END:VEVENT

END:VCALENDAR
