BEGIN:VCALENDAR
VERSION:2.0
PRODID:-//ChamberMaster//Event Calendar 2.0//EN
METHOD:PUBLISH
X-PUBLISHED-TTL:P3D
REFRESH-INTERVAL:P3D
CALSCALE:GREGORIAN
BEGIN:VEVENT
DTSTART:20110625T130000Z
DTEND:20110625T220000Z
X-MICROSOFT-CDO-ALLDAYEVENT:FALSE
SUMMARY:Active Choices Workshop (English)
DESCRIPTION:Free Pre-Marital Workshop to learn skills for a great relationship. Participants receive a $60 discount on the marriage license\, a grocery or gas card valued at $20 and free lunch. Call (956) 544-7165 to register!
X-ALT-DESC;FMTTYPE=text/html:Free Pre-Marital Workshop to learn skills for a great relationship. Participants receive a $60 discount on the marriage license\, a grocery or gas card valued at $20 and free lunch. Call (956) 544-7165 to register!
LOCATION:H.A.R.P. Cameron County
UID:e.1828.3238
SEQUENCE:3
DTSTAMP:20260421T080808Z
URL:https://business.harlingen.com/events/details/active-choices-workshop-english-06-25-2011-3238
END:VEVENT

END:VCALENDAR
