BEGIN:VCALENDAR
VERSION:2.0
PRODID:-//ChamberMaster//Event Calendar 2.0//EN
METHOD:PUBLISH
X-PUBLISHED-TTL:P3D
REFRESH-INTERVAL:P3D
CALSCALE:GREGORIAN
BEGIN:VEVENT
DTSTART:20110206T210000Z
DTEND:20110206T221500Z
X-MICROSOFT-CDO-ALLDAYEVENT:FALSE
SUMMARY:Adult Beginners Master Dance Class
DESCRIPTION:Acia Gray\, Artistic Director of Tapestry Dance Company\, President of The International Tap Association and author of The Souls of Your Feet - A Tap Dance Handbook for Rhythm Explorers will be teaching an introductory master class on the history and musical foundations of tap dance.  Learn how to make music with your feet.  No tap shoes required.  Purchase tickets for the master class at the South Padre Island Visitors Center or Designer Consigner in Port Isabel.  Cash or check only.  $25/person.  Very limited attendance for this class.  Get your ticket NOW.
X-ALT-DESC;FMTTYPE=text/html:Acia Gray\, Artistic Director of Tapestry Dance Company\, President of The International Tap Association and author of The Souls of Your Feet - A Tap Dance Handbook for Rhythm Explorers will be teaching an introductory master class on the history and musical foundations of tap dance.  Learn how to make music with your feet.  No tap shoes required.  Purchase tickets for the master class at the South Padre Island Visitors Center or Designer Consigner in Port Isabel.  Cash or check only.  $25/person.  Very limited attendance for this class.  Get your ticket NOW.
LOCATION:The Gym\, Port Isabel\, TX Visit www.elpaseoarts.org for more information
UID:e.1828.3203
SEQUENCE:3
DTSTAMP:20260421T154042Z
URL:https://business.harlingen.com/events/details/adult-beginners-master-dance-class-02-06-2011-3203
END:VEVENT

END:VCALENDAR
