BEGIN:VCALENDAR
VERSION:2.0
PRODID:-//ChamberMaster//Event Calendar 2.0//EN
METHOD:PUBLISH
X-PUBLISHED-TTL:P3D
REFRESH-INTERVAL:P3D
CALSCALE:GREGORIAN
BEGIN:VEVENT
DTSTART:20110915T223000Z
DTEND:20110915T223000Z
X-MICROSOFT-CDO-ALLDAYEVENT:FALSE
SUMMARY:Ambit Energy
DESCRIPTION:Ambit Energy is holding their Ribbon Cutting Ceremony at the Chamber! Come and enjoy food\, beverages\, and door prizes.
X-ALT-DESC;FMTTYPE=text/html:Ambit Energy is holding their Ribbon Cutting Ceremony at the Chamber! Come and enjoy food\, beverages\, and door prizes.\n
LOCATION:
UID:e.1828.3151
SEQUENCE:3
DTSTAMP:20260421T033738Z
URL:https://business.harlingen.com/events/details/ambit-energy-09-15-2011-3151
END:VEVENT

END:VCALENDAR
