BEGIN:VCALENDAR
VERSION:2.0
PRODID:-//ChamberMaster//Event Calendar 2.0//EN
METHOD:PUBLISH
X-PUBLISHED-TTL:P3D
REFRESH-INTERVAL:P3D
CALSCALE:GREGORIAN
BEGIN:VEVENT
DTSTART:20120106T010000Z
DTEND:20120106T010000Z
X-MICROSOFT-CDO-ALLDAYEVENT:FALSE
SUMMARY:Ambit Energy Business Presentation
DESCRIPTION:Begin 2012 with a Bang\, attend an Ambit Energy Business Presentation\nFind out why the Valley is exploding with this recession-proof business. Learn how you can obtain financial freedom and gain your freedom from the stress of a J.O.B. Gain time to spend with family and friends. Send your children to college. Whatever your dreams\, achieve them through Ambit Energy!\n•	Meet our co-founders Jere Thompson and Chris Chambless\n•	Meet with people who are realizing their dreams through Ambit Energy\n•	Part-time hours\, earn residual income\n•	An extra $500-1000/month to unlimited income\n•	Show family and friends how to save money on a product they already use.\n•	Partner with a multimillion $ company\n•	Presentation is free and there is no obligation\n•	Don't miss out\; bring your friends\; change your life- forever\n•	Realize your dreams\nWe'll see you there\, Lisa Edwards\nPlease RSVP to Lisa @ 956-307-8882  lisa.ambitenergy@gmail.com
X-ALT-DESC;FMTTYPE=text/html:Begin 2012 with a Bang\, attend an Ambit Energy Business Presentation\nFind out why the Valley is exploding with this recession-proof business. Learn how you can obtain financial freedom and gain your freedom from the stress of a J.O.B. Gain time to spend with family and friends. Send your children to college. Whatever your dreams\, achieve them through Ambit Energy!\n•	Meet our co-founders Jere Thompson and Chris Chambless\n•	Meet with people who are realizing their dreams through Ambit Energy\n•	Part-time hours\, earn residual income\n•	An extra $500-1000/month to unlimited income\n•	Show family and friends how to save money on a product they already use.\n•	Partner with a multimillion $ company\n•	Presentation is free and there is no obligation\n•	Don't miss out\; bring your friends\; change your life- forever\n•	Realize your dreams\nWe'll see you there\, Lisa Edwards\nPlease RSVP to Lisa @ 956-307-8882  lisa.ambitenergy@gmail.com\n \n
LOCATION:
UID:e.1828.3344
SEQUENCE:3
DTSTAMP:20260420T212046Z
URL:https://business.harlingen.com/events/details/ambit-energy-business-presentation-01-05-2012-3344
END:VEVENT

END:VCALENDAR
