BEGIN:VCALENDAR
VERSION:2.0
PRODID:-//ChamberMaster//Event Calendar 2.0//EN
METHOD:PUBLISH
X-PUBLISHED-TTL:P3D
REFRESH-INTERVAL:P3D
CALSCALE:GREGORIAN
BEGIN:VEVENT
DTSTART:20110824T223000Z
DTEND:20110824T223000Z
X-MICROSOFT-CDO-ALLDAYEVENT:FALSE
SUMMARY:Ambit Energy Grand Opening & Ribbon Cutting
DESCRIPTION:Ambit Energy is holding their Ribbon Cutting Ceremony at the Chamber! Come and enjoy food\, beverages\, and door prizes
X-ALT-DESC;FMTTYPE=text/html:Ambit Energy is holding their Ribbon Cutting Ceremony at the Chamber! Come and enjoy food\, beverages\, and door prizes\n
LOCATION:Board Room
UID:e.1828.3150
SEQUENCE:3
DTSTAMP:20260421T052755Z
URL:https://business.harlingen.com/events/details/ambit-energy-grand-opening-ribbon-cutting-08-24-2011-3150
END:VEVENT

END:VCALENDAR
