BEGIN:VCALENDAR
VERSION:2.0
PRODID:-//ChamberMaster//Event Calendar 2.0//EN
METHOD:PUBLISH
X-PUBLISHED-TTL:P3D
REFRESH-INTERVAL:P3D
CALSCALE:GREGORIAN
BEGIN:VEVENT
DTSTART:20100430T230000Z
DTEND:20100501T110000Z
X-MICROSOFT-CDO-ALLDAYEVENT:FALSE
SUMMARY:American Cancer Society Relay For Life
DESCRIPTION:American Cancer Society is having their annual Relay For Life on Friday\, April 30th starting at 6pm and ending at 6am on Saturday\, May 1.  More information can be obtained by calling Debra Garcia\, Relay Chairperson\, at (956) 430-7885.
X-ALT-DESC;FMTTYPE=text/html:American Cancer Society is having their annual Relay For Life on Friday\, April 30th starting at 6pm and ending at 6am on Saturday\, May 1.  More information can be obtained by calling Debra Garcia\, Relay Chairperson\, at (956) 430-7885.\n
LOCATION:
UID:e.1828.2485
SEQUENCE:3
DTSTAMP:20260422T051214Z
URL:https://business.harlingen.com/events/details/american-cancer-society-relay-for-life-04-30-2010-2485
END:VEVENT

END:VCALENDAR
