BEGIN:VCALENDAR
VERSION:2.0
PRODID:-//ChamberMaster//Event Calendar 2.0//EN
METHOD:PUBLISH
X-PUBLISHED-TTL:P3D
REFRESH-INTERVAL:P3D
CALSCALE:GREGORIAN
BEGIN:VEVENT
DTSTART:20100626T000000Z
DTEND:20100625T050000Z
X-MICROSOFT-CDO-ALLDAYEVENT:FALSE
SUMMARY:AMERICAN CANCER SOCIETY'S CATTLE BARONS BALL
DESCRIPTION:The American Cancer Society in the RGV will be hosting their Annual "Cattle Barons Ball" on Friday\, June 25th from 7p til midnight at La Antigua Revilla\, located in Edinburg\, TX.  Music By: MARSHALL LAW.  Fantastic Food displays\, Drinks\, Silent and Live auction items\,and much more!  This event is such a beautiful way to gather together and raise money for cancer patients right here in the RGV.  For more information please call: Donna Shawhan 279-6324.
X-ALT-DESC;FMTTYPE=text/html:The American Cancer Society in the RGV will be hosting their Annual "Cattle Barons Ball" on Friday\, June 25th from 7p til midnight at La Antigua Revilla\, located in Edinburg\, TX.  Music By: MARSHALL LAW.  Fantastic Food displays\, Drinks\, Silent and Live auction items\,and much more!  This event is such a beautiful way to gather together and raise money for cancer patients right here in the RGV.  For more information please call: Donna Shawhan 279-6324.\n\n
LOCATION:
UID:e.1828.2549
SEQUENCE:3
DTSTAMP:20260422T031722Z
URL:https://business.harlingen.com/events/details/american-cancer-society-s-cattle-barons-ball-06-25-2010-2549
END:VEVENT

END:VCALENDAR
