BEGIN:VCALENDAR
VERSION:2.0
PRODID:-//ChamberMaster//Event Calendar 2.0//EN
METHOD:PUBLISH
X-PUBLISHED-TTL:P3D
REFRESH-INTERVAL:P3D
CALSCALE:GREGORIAN
BEGIN:VEVENT
DTSTART:20091104T233000Z
DTEND:20091119T013000Z
X-MICROSOFT-CDO-ALLDAYEVENT:FALSE
SUMMARY:American Diabetes Association Walker's Wednesdays
DESCRIPTION:The American Diabetes Association Step Out Planning Committee invites you to join us for ADA Walker's Wednesdays at Roosevelt's at 7.  Pick up or turn in Step-Out forms and materials\, get updates on the event\, or\njust enjoy the energized and spirited atmosphere with other ADA Step-Out walkers.  Dates: Wednesdays in November (except Nov 25th).  Time: 5:30 PM—7:30 PM.  Appetizers provided by Roosevelt's at 7.  ADA donations accepted.  For more information contact Laura Longoria at llongoria@diabetes.org or 965-631-1118\nor Julie Lara at lara.julie@heb.com or 956-266-9032.
X-ALT-DESC;FMTTYPE=text/html:The American Diabetes Association Step Out Planning Committee invites you to join us for ADA Walker's Wednesdays at Roosevelt's at 7.  Pick up or turn in Step-Out forms and materials\, get updates on the event\, or\njust enjoy the energized and spirited atmosphere with other ADA Step-Out walkers.  Dates: Wednesdays in November (except Nov 25th).  Time: 5:30 PM—7:30 PM.  Appetizers provided by Roosevelt's at 7.  ADA donations accepted.  For more information contact Laura Longoria at llongoria@diabetes.org or 965-631-1118\nor Julie Lara at lara.julie@heb.com or 956-266-9032.
LOCATION:
UID:e.1828.2199
SEQUENCE:3
DTSTAMP:20260422T144417Z
URL:https://business.harlingen.com/events/details/american-diabetes-association-walker-s-wednesdays-11-04-2009-2199
END:VEVENT

END:VCALENDAR
