BEGIN:VCALENDAR
VERSION:2.0
PRODID:-//ChamberMaster//Event Calendar 2.0//EN
METHOD:PUBLISH
X-PUBLISHED-TTL:P3D
REFRESH-INTERVAL:P3D
CALSCALE:GREGORIAN
BEGIN:VEVENT
DTSTART:20091003T130000Z
DTEND:20091003T160000Z
X-MICROSOFT-CDO-ALLDAYEVENT:FALSE
SUMMARY:American Heart Association 2009 Wes Lepard Heart Walk
DESCRIPTION:The American Heart Walk is an annual 5K non-competitive family walking event designed to bring public awareness to physical activity and a heart-healthy lifestyle\, while at the same time\, raising the critical dollars needed to fund the life-saving research and educational community programs of the American Heart Association. \nWalkers from all over Cameron County come out to support the fight against our country's leading causes of death...heart disease and stroke.  For more information please contact Victoria Salazar at 956-742-9854 or email her at victoria.salazar@heart.org.
X-ALT-DESC;FMTTYPE=text/html:The American Heart Walk is an annual 5K non-competitive family walking event designed to bring public awareness to physical activity and a heart-healthy lifestyle\, while at the same time\, raising the critical dollars needed to fund the life-saving research and educational community programs of the American Heart Association. \nWalkers from all over Cameron County come out to support the fight against our country's leading causes of death...heart disease and stroke.  For more information please contact Victoria Salazar at 956-742-9854 or email her at victoria.salazar@heart.org.\n\n
LOCATION:
UID:e.1828.1847
SEQUENCE:3
DTSTAMP:20260422T112223Z
URL:https://business.harlingen.com/events/details/american-heart-association-2009-wes-lepard-heart-walk-10-03-2009-1847
END:VEVENT

END:VCALENDAR
