BEGIN:VCALENDAR
VERSION:2.0
PRODID:-//ChamberMaster//Event Calendar 2.0//EN
METHOD:PUBLISH
X-PUBLISHED-TTL:P3D
REFRESH-INTERVAL:P3D
CALSCALE:GREGORIAN
BEGIN:VEVENT
DTSTART:20120328T223000Z
DTEND:20120328T223000Z
X-MICROSOFT-CDO-ALLDAYEVENT:FALSE
SUMMARY:American Military Support Ribbon Cutting
DESCRIPTION:American Military Support is celebrating their second anniversary in support of our Valley troops overseas.  They are also establishing projects to assist local Veterans. Join them for their ribbon cutting and open house.  Refreshments will be served.
X-ALT-DESC;FMTTYPE=text/html:American Military Support is celebrating their second anniversary in support of our Valley troops overseas.  They are also establishing projects to assist local Veterans. Join them for their ribbon cutting and open house.  Refreshments will be served.\n
LOCATION:
UID:e.1828.3596
SEQUENCE:3
DTSTAMP:20260420T181923Z
URL:https://business.harlingen.com/events/details/american-military-support-ribbon-cutting-03-28-2012-3596
END:VEVENT

END:VCALENDAR
