BEGIN:VCALENDAR
VERSION:2.0
PRODID:-//ChamberMaster//Event Calendar 2.0//EN
METHOD:PUBLISH
X-PUBLISHED-TTL:P3D
REFRESH-INTERVAL:P3D
CALSCALE:GREGORIAN
BEGIN:VEVENT
DTSTART;VALUE=DATE:20120416
DTEND;VALUE=DATE:20120617
TRANSP:TRANSPARENT
X-MICROSOFT-CDO-ALLDAYEVENT:TRUE
SUMMARY:American Military Support "Valley Hero Relief"
DESCRIPTION:"Valley Hero Relief" - now until July 16\, 2012 American Military Support\, a 501C3 non-profit organization\, is asking you to Support our Valley Heroes!  This summer\, YOU can show our VALLEY Troops how much you appreciate their service to our country by helping to provide a special Summer QLP (Quality Life Package). Items may be dropped off at the Harlingen Chamber of Commerce. Monetary donations are being requested to assist with the postage cost. Donations may be made via PayPal or check/money order to be mailed to: American Military Support\, P.O. Box 533365\, Harlingen\, TX. 78553 For more information call:  (956) 425-1549.  \n\nSummer Relief Supplies requested: Sunglasses\, Sunscreen SPF-30 & up\, Wipes\, Oatmeal singles\, Cooling Ties\, Eyeglass Cleaner Kit\, Dental Floss\, Shoe Insoles\, Mini First Aid Kit\, Hand Lotion\, Athlete Foot Cream\, Antibiotic Ointment\, Hand Sanitizer\, Foot Powder\, Pain Relievers\, Deodorant\, Flea Collars\, Band-aids\, Black Work Socks\, Granola Bars.
X-ALT-DESC;FMTTYPE=text/html:"Valley Hero Relief" - now until July 16\, 2012 American Military Support\, a 501C3 non-profit organization\, is asking you to Support our Valley Heroes!  This summer\, YOU can show our VALLEY Troops how much you appreciate their service to our country by helping to provide a special Summer QLP (Quality Life Package). Items may be dropped off at the Harlingen Chamber of Commerce. Monetary donations are being requested to assist with the postage cost. Donations may be made via PayPal or check/money order to be mailed to: American Military Support\, P.O. Box 533365\, Harlingen\, TX. 78553 For more information call:  (956) 425-1549.  \n\nSummer Relief Supplies requested: Sunglasses\, Sunscreen SPF-30 & up\, Wipes\, Oatmeal singles\, Cooling Ties\, Eyeglass Cleaner Kit\, Dental Floss\, Shoe Insoles\, Mini First Aid Kit\, Hand Lotion\, Athlete Foot Cream\, Antibiotic Ointment\, Hand Sanitizer\, Foot Powder\, Pain Relievers\, Deodorant\, Flea Collars\, Band-aids\, Black Work Socks\, Granola Bars. 
LOCATION:
UID:e.1828.3625
SEQUENCE:3
DTSTAMP:20260420T131858Z
URL:https://business.harlingen.com/events/details/american-military-support-valley-hero-relief-04-16-2012-3625
END:VEVENT

END:VCALENDAR
