BEGIN:VCALENDAR
VERSION:2.0
PRODID:-//ChamberMaster//Event Calendar 2.0//EN
METHOD:PUBLISH
X-PUBLISHED-TTL:P3D
REFRESH-INTERVAL:P3D
CALSCALE:GREGORIAN
BEGIN:VEVENT
DTSTART:20120303T220000Z
DTEND:20120304T010000Z
X-MICROSOFT-CDO-ALLDAYEVENT:FALSE
SUMMARY:American Red Cross Month Celebration
DESCRIPTION:Join us for our "American Red Cross Month Celebration" on Saturday\, March 3\, 2012 from 4:00 pm to 7:00 pm at the American Red Cross-South Texas Chapter located at 6914 W. Expressway 83 in Harlingen.  We'll have informational booths and goodies\, a Children's Play Section\, Food\, Live Music and we will recognize our Heroes.  A HERO is someone with these qualities: Heart for those in need.  Engaged in helping others.  Responsible to get the job done.  Oriented to give hope.  If you would like to be a "Hero"\, please call the American Red Cross at (956) 423-0523.
X-ALT-DESC;FMTTYPE=text/html:Join us for our "American Red Cross Month Celebration" on Saturday\, March 3\, 2012 from 4:00 pm to 7:00 pm at the American Red Cross-South Texas Chapter located at 6914 W. Expressway 83 in Harlingen.  We'll have informational booths and goodies\, a Children's Play Section\, Food\, Live Music and we will recognize our Heroes.  A HERO is someone with these qualities: Heart for those in need.  Engaged in helping others.  Responsible to get the job done.  Oriented to give hope.  If you would like to be a "Hero"\, please call the American Red Cross at (956) 423-0523.
LOCATION:American Red Cross-South Texas Chapter
UID:e.1828.3480
SEQUENCE:3
DTSTAMP:20260420T181923Z
URL:https://business.harlingen.com/events/details/american-red-cross-month-celebration-03-03-2012-3480
END:VEVENT

END:VCALENDAR
