BEGIN:VCALENDAR
VERSION:2.0
PRODID:-//ChamberMaster//Event Calendar 2.0//EN
METHOD:PUBLISH
X-PUBLISHED-TTL:P3D
REFRESH-INTERVAL:P3D
CALSCALE:GREGORIAN
BEGIN:VEVENT
DTSTART;VALUE=DATE:20110701
DTEND;VALUE=DATE:20110703
TRANSP:TRANSPARENT
X-MICROSOFT-CDO-ALLDAYEVENT:TRUE
SUMMARY:An Old Fashioned 4th of July
DESCRIPTION:Join us for two days of fun and learning at the Harlingen Arts & Heritage Museum. Take a tour of Harlingen's Historic Buildings.  Food & Drinks will be availble for purchase.\n\nFriday\, July 1\, 2011\nValley History Symposium \nTime: 6pm-9pm \n\nSaturday\, July 2\, 2011 \nFamily Fun Event \nTime: 10am-2pm\n\nEntertainment: Gloria G. Canalas Mexican Folkloric School of Dance\, The Bear Clan\, Historical Re-enactors\, Craft Presenters\, Kids Arts and Craft and Cake Walk.\n\nSpeaker's topics: Civil War medicine\, Black Education in Harlingen\, Researching Texas History Subjects\, Early History of South Padre Island. \n\nEvent Sponsors: H.E.B.\, Harlingen Arts & Heritage Museum\, RGV Museum Association\, Harlingen Convention & Visitors Bureau\, Harlingen Historic Preservation Society.
X-ALT-DESC;FMTTYPE=text/html:Join us for two days of fun and learning at the Harlingen Arts & Heritage Museum. Take a tour of Harlingen's Historic Buildings.  Food & Drinks will be availble for purchase.\n\nFriday\, July 1\, 2011\nValley History Symposium \nTime: 6pm-9pm \n\nSaturday\, July 2\, 2011 \nFamily Fun Event \nTime: 10am-2pm\n\nEntertainment: Gloria G. Canalas Mexican Folkloric School of Dance\, The Bear Clan\, Historical Re-enactors\, Craft Presenters\, Kids Arts and Craft and Cake Walk.\n\nSpeaker's topics: Civil War medicine\, Black Education in Harlingen\, Researching Texas History Subjects\, Early History of South Padre Island. \n\nEvent Sponsors: H.E.B.\, Harlingen Arts & Heritage Museum\, RGV Museum Association\, Harlingen Convention & Visitors Bureau\, Harlingen Historic Preservation Society.  \n\n\n\n
LOCATION:
UID:e.1828.3099
SEQUENCE:3
DTSTAMP:20260421T064217Z
URL:https://business.harlingen.com/events/details/an-old-fashioned-4th-of-july-07-01-2011-3099
END:VEVENT

END:VCALENDAR
