BEGIN:VCALENDAR
VERSION:2.0
PRODID:-//ChamberMaster//Event Calendar 2.0//EN
METHOD:PUBLISH
X-PUBLISHED-TTL:P3D
REFRESH-INTERVAL:P3D
CALSCALE:GREGORIAN
BEGIN:VEVENT
DTSTART:20091212T200000Z
DTEND:20091212T200000Z
X-MICROSOFT-CDO-ALLDAYEVENT:FALSE
SUMMARY:An Old Fashioned Christmas
DESCRIPTION:Come learn about the Christmas traditions of Victorian America by taking a tour of the historic Stillman House Museum. Hear about the origins of many of our modern day customs. Christmas refreshments and crafts will be available!
X-ALT-DESC;FMTTYPE=text/html:Come learn about the Christmas traditions of Victorian America by taking a tour of the historic Stillman House Museum. Hear about the origins of many of our modern day customs. Christmas refreshments and crafts will be available! 
LOCATION:Stillman House Museum
UID:e.1828.2256
SEQUENCE:3
DTSTAMP:20260422T125811Z
URL:https://business.harlingen.com/events/details/an-old-fashioned-christmas-12-12-2009-2256
END:VEVENT

END:VCALENDAR
