BEGIN:VCALENDAR
VERSION:2.0
PRODID:-//ChamberMaster//Event Calendar 2.0//EN
METHOD:PUBLISH
X-PUBLISHED-TTL:P3D
REFRESH-INTERVAL:P3D
CALSCALE:GREGORIAN
BEGIN:VEVENT
DTSTART:20091010T190000Z
DTEND:20091010T220000Z
X-MICROSOFT-CDO-ALLDAYEVENT:FALSE
SUMMARY:An Old Fashioned Halloween
DESCRIPTION:Halloween is just around the corner and the Brownsville Historical Association invites you to join in on the spook-tacular events at the Stillman House Museum!  Guests will be given a tour of the Stillman House and learn all about how Halloween was celebrated by the Victorians.  Crafts\, spirits and even a card reader will be on hand to get everyone in the Halloween spirit!  This event is free to the public.
X-ALT-DESC;FMTTYPE=text/html:Halloween is just around the corner and the Brownsville Historical Association invites you to join in on the spook-tacular events at the Stillman House Museum!  Guests will be given a tour of the Stillman House and learn all about how Halloween was celebrated by the Victorians.  Crafts\, spirits and even a card reader will be on hand to get everyone in the Halloween spirit!  This event is free to the public.
LOCATION:Take US 77/83 to International Blvd. Turn right onto Washington St. (one way) and the Museum will be on the right hand side. Parking is available nearby.
UID:e.1828.2100
SEQUENCE:3
DTSTAMP:20260422T111717Z
URL:https://business.harlingen.com/events/details/an-old-fashioned-halloween-10-10-2009-2100
END:VEVENT

END:VCALENDAR
