BEGIN:VCALENDAR
VERSION:2.0
PRODID:-//ChamberMaster//Event Calendar 2.0//EN
METHOD:PUBLISH
X-PUBLISHED-TTL:P3D
REFRESH-INTERVAL:P3D
CALSCALE:GREGORIAN
BEGIN:VEVENT
DTSTART:20100812T233000Z
DTEND:20100813T020000Z
X-MICROSOFT-CDO-ALLDAYEVENT:FALSE
SUMMARY:Annual Award of Distinction
DESCRIPTION:The Girl Scouts of Greater South Texas Council is hosting the Annual Award of Distinction at the McAllen Convention Center.  The Event will benefit programs for girls in South Texas.  For sponsorship opportunities for tickets\, call Zaira Garcia\, Chief Development Officer\, at 956/668-0299 or visit www.gsgst.org.
X-ALT-DESC;FMTTYPE=text/html:The Girl Scouts of Greater South Texas Council is hosting the Annual Award of Distinction at the McAllen Convention Center.  The Event will benefit programs for girls in South Texas.  For sponsorship opportunities for tickets\, call Zaira Garcia\, Chief Development Officer\, at 956/668-0299 or visit www.gsgst.org.
LOCATION:McAllen Convention Center Located off Expressway 83 and Shary Road in McAllen.
UID:e.1828.2557
SEQUENCE:3
DTSTAMP:20260422T001700Z
URL:https://business.harlingen.com/events/details/annual-award-of-distinction-08-12-2010-2557
END:VEVENT

END:VCALENDAR
