BEGIN:VCALENDAR
VERSION:2.0
PRODID:-//ChamberMaster//Event Calendar 2.0//EN
METHOD:PUBLISH
X-PUBLISHED-TTL:P3D
REFRESH-INTERVAL:P3D
CALSCALE:GREGORIAN
BEGIN:VEVENT
DTSTART:20100501T210000Z
DTEND:20100502T010000Z
X-MICROSOFT-CDO-ALLDAYEVENT:FALSE
SUMMARY:Annual Derby Day & Horse Show
DESCRIPTION:Cameron County Mental Health Task Force invites you to participate in a very special event celebrating Mental Health Month.  The Annual Derby Day & Horse Show will be held on Saturday\, May 1\, 2010 from 4pm-8pm at Wink's Saloon\, Grill & Roping Arena located at 10700 Fm 1421 in Brownsville\, TX.  Cost $30 for Adults & $10 for  Children.  Enjoy Food\, Games\, Silent Auction & Live Horse Show.  Plus a Hat Contest for men\, women & children!  For ticket information please call (956) 364-8401 or Email: cameroncountymentalhealth@yahoo.com
X-ALT-DESC;FMTTYPE=text/html:Cameron County Mental Health Task Force invites you to participate in a very special event celebrating Mental Health Month.  The Annual Derby Day & Horse Show will be held on Saturday\, May 1\, 2010 from 4pm-8pm at Wink's Saloon\, Grill & Roping Arena located at 10700 Fm 1421 in Brownsville\, TX.  Cost $30 for Adults & $10 for  Children.  Enjoy Food\, Games\, Silent Auction & Live Horse Show.  Plus a Hat Contest for men\, women & children!  For ticket information please call (956) 364-8401 or Email: cameroncountymentalhealth@yahoo.com \n
LOCATION:Wink’s Saloon\, Grill & Roping Arena 10700 Fm 1421 Brownsville\, TX 78520
UID:e.1828.2468
SEQUENCE:3
DTSTAMP:20260422T061837Z
URL:https://business.harlingen.com/events/details/annual-derby-day-horse-show-05-01-2010-2468
END:VEVENT

END:VCALENDAR
