BEGIN:VCALENDAR
VERSION:2.0
PRODID:-//ChamberMaster//Event Calendar 2.0//EN
METHOD:PUBLISH
X-PUBLISHED-TTL:P3D
REFRESH-INTERVAL:P3D
CALSCALE:GREGORIAN
BEGIN:VEVENT
DTSTART:20110211T173000Z
DTEND:20110211T173000Z
X-MICROSOFT-CDO-ALLDAYEVENT:FALSE
SUMMARY:Annual State of the City Address Harlingen Mayor Chris Boswell
DESCRIPTION:*New Date and Location*\nAnnual State of the City Address\nHarlingen Mayor Chris Boswell \nSponsored by the Rotary Club of Harlingen\n \n20.00 for lunch ticket.  \nPurchase all tickets at the door.  \nTheatre-style seating available for those not wishing to purchase lunch.
X-ALT-DESC;FMTTYPE=text/html:*New Date and Location*\nAnnual State of the City Address\nHarlingen Mayor Chris Boswell \nSponsored by the Rotary Club of Harlingen\n \n20.00 for lunch ticket.  \nPurchase all tickets at the door.  \nTheatre-style seating available for those not wishing to purchase lunch.\n
LOCATION:
UID:e.1828.2907
SEQUENCE:3
DTSTAMP:20260421T143041Z
URL:https://business.harlingen.com/events/details/annual-state-of-the-city-address-harlingen-mayor-chris-boswell-02-11-2011-2907
END:VEVENT

END:VCALENDAR
