BEGIN:VCALENDAR
VERSION:2.0
PRODID:-//ChamberMaster//Event Calendar 2.0//EN
METHOD:PUBLISH
X-PUBLISHED-TTL:P3D
REFRESH-INTERVAL:P3D
CALSCALE:GREGORIAN
BEGIN:VEVENT
DTSTART:20101106T150000Z
DTEND:20101106T210000Z
X-MICROSOFT-CDO-ALLDAYEVENT:FALSE
SUMMARY:ANNUAL VETERANS SALUTE RETURNS TO THE RIO GRANDE VALLEY
DESCRIPTION:Sgt. Tomas Garces - Texas Army National Guard Armory in Weslaco\, Texas\nVeterans & Active Duty Servicemen & Servicewomen\, their spouses & children encouraged to attend a daylong event that connects those who served with the information & services available to them.  VA Texas Valley Coastal Bend Health Care System\, Texas Armory National Guard\, University of Texas Pan American - Veteran Business Outreach Center\, U.S. Small Business Administration\, Lt. Thomas Barlow Chapter NSDAR\, RGV Vets & Wounded Vets Foundation\, and many\, many more community partners.  \n\nSCHEDULE OF EVENTS: \n10:30AM - Opening Ceremony Begins\n12:00 Noon - Marine Military Academy Brackets Air Wing - Flying Missing Man Formation.\nExhibitor hall\, fajita Cook-Off\, and music throughout the day.\nFor further info call Froy Garza\, Public Affairs Officer (956) 430-9303 /(956) 454-3762 (Cell) \n\nSite Dedication of the Future Veterans Memorial\nSunday\, November 7\,  2 PM\nPendleton Park\, Harlingen (corner of Grimes and Morgan Blvd.)\nFor more information about the Veterans Memorial or the sale of pavers\, email artcohan1@earthlink.net or call (956) 202-3054 or write to Vet4rans Memorial Project Committee\, PO Box 2862\, Harlingen\, TX  78551.\n\n\nMark your calender!\n\nReport to Chili's For Your Free Veterans' Day Meal
X-ALT-DESC;FMTTYPE=text/html:Sgt. Tomas Garces - Texas Army National Guard Armory in Weslaco\, Texas\nVeterans & Active Duty Servicemen & Servicewomen\, their spouses & children encouraged to attend a daylong event that connects those who served with the information & services available to them.  VA Texas Valley Coastal Bend Health Care System\, Texas Armory National Guard\, University of Texas Pan American - Veteran Business Outreach Center\, U.S. Small Business Administration\, Lt. Thomas Barlow Chapter NSDAR\, RGV Vets & Wounded Vets Foundation\, and many\, many more community partners.  \n\nSCHEDULE OF EVENTS: \n10:30AM - Opening Ceremony Begins\n12:00 Noon - Marine Military Academy Brackets Air Wing - Flying Missing Man Formation.\nExhibitor hall\, fajita Cook-Off\, and music throughout the day.\nFor further info call Froy Garza\, Public Affairs Officer (956) 430-9303 /(956) 454-3762 (Cell) \n\nSite Dedication of the Future Veterans Memorial\nSunday\, November 7\,  2 PM\nPendleton Park\, Harlingen (corner of Grimes and Morgan Blvd.)\nFor more information about the Veterans Memorial or the sale of pavers\, email artcohan1@earthlink.net or call (956) 202-3054 or write to Vet4rans Memorial Project Committee\, PO Box 2862\, Harlingen\, TX  78551.\n\n\nMark your calender!\n\nReport to Chili's For Your Free Veterans' Day Meal\n \n\n \n\n
LOCATION:
UID:e.1828.2837
SEQUENCE:3
DTSTAMP:20260421T204028Z
URL:https://business.harlingen.com/events/details/annual-veterans-salute-returns-to-the-rio-grande-valley-11-06-2010-2837
END:VEVENT

END:VCALENDAR
